BEGIN:VCALENDAR
VERSION:2.0
PRODID:-//Plone.org//NONSGML plone.app.event//EN
X-WR-TIMEZONE:Europe/Berlin
BEGIN:VEVENT
SUMMARY:142. Dresdner Urologentreffen
DTSTART;TZID=Europe/Berlin:20251022T183000
DTEND;TZID=Europe/Berlin:20251022T213000
DTSTAMP:20260420T002434Z
UID:5ea48650c31f4847a390cb65f798d2c8@10.210.121.177:6081
CATEGORIES:Veranstaltungen,Ärzte
CONTACT:Fortbildung Urologie\, +49 351 458 7465\, fortbildung.urologie@ukd
 d.de\, https://www.uniklinikum-dresden.de/de/das-klinikum/kliniken-polikli
 niken-institute/uro/news
CREATED:20241028T154952Z
LAST-MODIFIED:20241028T154955Z
LOCATION:UKD\, Dekanatshörsaal\, Haus 40
URL:https://www.nct-dresden.de/de/das-nctucc-dresden/veranstaltungen/142-d
 resdner-urologentreffen
END:VEVENT
BEGIN:VTIMEZONE
TZID:Europe/Berlin
X-LIC-LOCATION:Europe/Berlin
BEGIN:DAYLIGHT
DTSTART:20250330T030000
TZNAME:CEST
TZOFFSETFROM:+0100
TZOFFSETTO:+0200
END:DAYLIGHT
END:VTIMEZONE
END:VCALENDAR
