BEGIN:VCALENDAR
VERSION:2.0
PRODID:-//Plone.org//NONSGML plone.app.event//EN
X-WR-TIMEZONE:Europe/Berlin
BEGIN:VEVENT
SUMMARY:Dresden Translational Oncology Seminar
DTSTART;TZID=Europe/Berlin:20251106T170000
DTSTAMP:20260420T080027Z
UID:2d020cdababe4019995245797fabe652@10.210.121.177:6081
CATEGORIES:Forschung,Veranstaltungen,Ärzte
CONTACT:Karoline Laske\, karoline.laske@nct-dresden.de
CREATED:20251002T084308Z
LAST-MODIFIED:20251006T202004Z
LOCATION:H130\, ground floor\, SR1 & online
URL:https://www.nct-dresden.de/de/das-nctucc-dresden/veranstaltungen/dresd
 en-translational-oncology-seminar-1
END:VEVENT
BEGIN:VTIMEZONE
TZID:Europe/Berlin
X-LIC-LOCATION:Europe/Berlin
BEGIN:STANDARD
DTSTART:20251026T020000
TZNAME:CET
TZOFFSETFROM:+0200
TZOFFSETTO:+0100
END:STANDARD
END:VTIMEZONE
END:VCALENDAR
