BEGIN:VCALENDAR
VERSION:2.0
PRODID:-//Plone.org//NONSGML plone.app.event//EN
X-WR-TIMEZONE:Europe/Berlin
BEGIN:VEVENT
SUMMARY:Dresden Translational Oncology Seminar (DTOS)
DTSTART;TZID=Europe/Berlin:20260226T170000
DTEND;TZID=Europe/Berlin:20260226T183000
DTSTAMP:20260420T020438Z
UID:44d792d78c914848956086c54edb5691@10.210.121.177:6081
CATEGORIES:Veranstaltungen,Forschung
CONTACT:Dr. Satu Kujawski\, 0351 458 16356\, satu.kujawski@ukdd.de
CREATED:20260112T085513Z
DESCRIPTION:A multimodal AI-guided approach for engineering CRISPR-Cas pro
 teins
LAST-MODIFIED:20260120T073131Z
LOCATION:UKD\, Haus 66\, Konferenzraum und online
URL:https://www.nct-dresden.de/de/das-nctucc-dresden/veranstaltungen/dresd
 en-translational-oncology-seminar-dtos
END:VEVENT
BEGIN:VTIMEZONE
TZID:Europe/Berlin
X-LIC-LOCATION:Europe/Berlin
BEGIN:STANDARD
DTSTART:20251026T020000
TZNAME:CET
TZOFFSETFROM:+0200
TZOFFSETTO:+0100
END:STANDARD
END:VTIMEZONE
END:VCALENDAR
