BEGIN:VCALENDAR
VERSION:2.0
PRODID:-//Plone.org//NONSGML plone.app.event//EN
X-WR-TIMEZONE:Europe/Berlin
BEGIN:VEVENT
SUMMARY:Dresden Translational Oncology Seminar
DTSTART;TZID=Europe/Berlin:20251021T170000
DTSTAMP:20260419T224427Z
UID:68f12ce934994306b0db811257b77074@10.210.121.177:6081
CATEGORIES:Forschung,Ärzte,Veranstaltungen
CONTACT:Karoline Laske\, karoline.laske@nct-dresden.de
CREATED:20251002T084036Z
LAST-MODIFIED:20251006T201615Z
LOCATION:H66\, 3rd floor\, conference room & online
URL:https://www.nct-dresden.de/de/das-nctucc-dresden/veranstaltungen/dresd
 en-translational-oncology-seminar
END:VEVENT
BEGIN:VTIMEZONE
TZID:Europe/Berlin
X-LIC-LOCATION:Europe/Berlin
BEGIN:DAYLIGHT
DTSTART:20250330T030000
TZNAME:CEST
TZOFFSETFROM:+0100
TZOFFSETTO:+0200
END:DAYLIGHT
END:VTIMEZONE
END:VCALENDAR
