BEGIN:VCALENDAR
VERSION:2.0
PRODID:-//Plone.org//NONSGML plone.app.event//EN
X-WR-TIMEZONE:Europe/Berlin
BEGIN:VEVENT
SUMMARY:Krebs im Focus - Lebensqualität bei Krebs I
DTSTART;TZID=Europe/Berlin:20241023T173000
DTEND;TZID=Europe/Berlin:20241023T191500
DTSTAMP:20260423T233429Z
UID:719ee4dd40a94d18bd6ba6841e885272@10.210.121.177:6081
CATEGORIES:Ärzte
CONTACT:Yvonne Schidlek\, 0351 458 4408\, krebsimfocus@ukdd.de
CREATED:20240905T090833Z
LAST-MODIFIED:20241016T164641Z
LOCATION:UKD\, Hörsaal 19
URL:https://www.nct-dresden.de/de/das-nctucc-dresden/veranstaltungen/krebs
 -im-focus-lebensqualitaet-bei-krebs-i
END:VEVENT
BEGIN:VTIMEZONE
TZID:Europe/Berlin
X-LIC-LOCATION:Europe/Berlin
BEGIN:DAYLIGHT
DTSTART:20240331T030000
TZNAME:CEST
TZOFFSETFROM:+0100
TZOFFSETTO:+0200
END:DAYLIGHT
END:VTIMEZONE
END:VCALENDAR
