BEGIN:VCALENDAR
VERSION:2.0
PRODID:-//Plone.org//NONSGML plone.app.event//EN
X-WR-TIMEZONE:Europe/Berlin
BEGIN:VEVENT
SUMMARY:Nationale Konferenz Patienten als Partner der Krebsforschung
DTSTART;VALUE=DATE:20260918
DTEND;VALUE=DATE:20260921
DTSTAMP:20260421T074354Z
UID:569c02ba7b9c417cbcf3c9a6e67e82e6@10.210.121.177:6081
CATEGORIES:Veranstaltungen,Patienten,Ärzte,Forschung
CONTACT:Dr. Annette Schilling\, +49 6221 42-1598\, nct-patientenbeteiligun
 g-at-dkfz.de\, https://nct.dkfz.de/patientenbeteiligung/patientenexpertenk
 onferenz.html
CREATED:20260112T131534Z
DESCRIPTION:in Essen
LAST-MODIFIED:20260112T131539Z
LOCATION:Essen
URL:https://www.nct-dresden.de/de/das-nctucc-dresden/veranstaltungen/natio
 nale-konferenz-patienten-als-partner-der-krebsforschung
END:VEVENT
END:VCALENDAR
