BEGIN:VCALENDAR
VERSION:2.0
PRODID:-//Plone.org//NONSGML plone.app.event//EN
X-WR-TIMEZONE:Europe/Berlin
BEGIN:VEVENT
SUMMARY:Patienten-Café
DTSTART;TZID=Europe/Berlin:20260309T153000
DTEND;TZID=Europe/Berlin:20260309T170000
DTSTAMP:20260420T021359Z
UID:c77e110332594eddb7f7ac07b3c61aa0@10.210.121.177:6081
CATEGORIES:Veranstaltungen,Patienten
CONTACT:Philippe Fanghaenel\, philippe.fanghaenel@nct-dresden.de\, https:/
 /www.nct-dresden.de/de/fuer-patienten/beratungs-und-unterstuetzungsangebot
 e/patienten-cafe
CREATED:20260112T085729Z
LAST-MODIFIED:20260112T085746Z
LOCATION:NCT/UCC
URL:https://www.nct-dresden.de/de/das-nctucc-dresden/veranstaltungen/patie
 nten-cafe-5
END:VEVENT
BEGIN:VTIMEZONE
TZID:Europe/Berlin
X-LIC-LOCATION:Europe/Berlin
BEGIN:STANDARD
DTSTART:20251026T020000
TZNAME:CET
TZOFFSETFROM:+0200
TZOFFSETTO:+0100
END:STANDARD
END:VTIMEZONE
END:VCALENDAR
