BEGIN:VCALENDAR
VERSION:2.0
PRODID:-//Plone.org//NONSGML plone.app.event//EN
X-WR-TIMEZONE:Europe/Berlin
BEGIN:VEVENT
SUMMARY:Symposium Cancer Survivorship
DTSTART;TZID=Europe/Berlin:20260320T163000
DTEND;TZID=Europe/Berlin:20260320T180000
DTSTAMP:20260420T020920Z
UID:1466517e660244539c431b972c137aae@10.210.121.177:6081
CATEGORIES:Veranstaltungen,Ärzte
CONTACT:Dr. Katharina Egger-Heidrich / Dr. Judith Lohse
CREATED:20260112T131226Z
LAST-MODIFIED:20260126T134232Z
LOCATION:UKD\, Haus 66\, Konferenzraum und online
URL:https://www.nct-dresden.de/de/das-nctucc-dresden/veranstaltungen/sympo
 sium-cancer-survivorship
END:VEVENT
BEGIN:VTIMEZONE
TZID:Europe/Berlin
X-LIC-LOCATION:Europe/Berlin
BEGIN:STANDARD
DTSTART:20251026T020000
TZNAME:CET
TZOFFSETFROM:+0200
TZOFFSETTO:+0100
END:STANDARD
END:VTIMEZONE
END:VCALENDAR
