BEGIN:VCALENDAR
VERSION:2.0
PRODID:-//Plone.org//NONSGML plone.app.event//EN
X-WR-TIMEZONE:Europe/Berlin
BEGIN:VEVENT
SUMMARY:NCT/UCC Patiententag
DTSTART;TZID=Europe/Berlin:20260606T090000
DTSTAMP:20260422T013538Z
UID:cad1dad2b2334594a9483465cb8bf939@10.210.121.177:6081
CATEGORIES:Patienten,Veranstaltungen
CONTACT:Yvonne Schidlek\, 0351 458 4408\, veranstaltungen.nct-ucc@ukdd.de\
 , https://www.nct-dresden.de/de/fuer-patienten/veranstaltungen/patiententa
 g
CREATED:20260108T102059Z
LAST-MODIFIED:20260108T102108Z
LOCATION:Universitätsklinikum Dresden\, Haus 91 (MTZ) und Haus 92 (MITS)\
 , Fiedlerstraße 42\, 01307 Dresden
URL:https://www.nct-dresden.de/de/das-nctucc-dresden/veranstaltungen/nct-u
 cc-patiententag-1
END:VEVENT
BEGIN:VEVENT
SUMMARY:Patienteninformationstag Familiärer Brust- und Eierstockkrebs
DTSTART;TZID=Europe/Berlin:20261114T090000
DTEND;TZID=Europe/Berlin:20261114T130000
DTSTAMP:20260422T013538Z
UID:c28a8a6810c3405c9ba25ea038e0b8f6@10.210.121.177:6081
CATEGORIES:Veranstaltungen,Patienten
CONTACT:Julia Häfner\, 035145816856\, julia.haefner@ukdd.de
CREATED:20260108T110509Z
LAST-MODIFIED:20260108T110514Z
LOCATION:UKD\, Haus 21\, Hörsaal
URL:https://www.nct-dresden.de/de/das-nctucc-dresden/veranstaltungen/patie
 nteninformationstag-familiaerer-brust-und-eierstockkrebs
END:VEVENT
BEGIN:VEVENT
SUMMARY:NCT/UCC Benefizlauf "FortSCHRITT gegen Krebs"
DTSTART;TZID=Europe/Berlin:20260901T160000
DTEND;TZID=Europe/Berlin:20260901T180000
DTSTAMP:20260422T013538Z
UID:4593ce0ffb0643b89bc1394fc9e03ebe@10.210.121.177:6081
CATEGORIES:Veranstaltungen,Patienten,Forschung,Ärzte
CONTACT:Philippe Fanghänel\, 0351 458 5572\, philippe.fanghaenel@nct-dres
 den.de\, https://www.nct-dresden.de/de/das-nctucc-dresden/spenden/benefizv
 eranstaltungen/nctucc-benefizlauf
CREATED:20260108T112822Z
LAST-MODIFIED:20260108T112834Z
LOCATION:Großer Garten/ Palaisteich
URL:https://www.nct-dresden.de/de/das-nctucc-dresden/veranstaltungen/nct-u
 cc-benefizlauf-fortschritt-gegen-krebs-2
END:VEVENT
BEGIN:VEVENT
SUMMARY:Nationale Konferenz Patienten als Partner der Krebsforschung
DTSTART;VALUE=DATE:20260918
DTEND;VALUE=DATE:20260921
DTSTAMP:20260422T013538Z
UID:569c02ba7b9c417cbcf3c9a6e67e82e6@10.210.121.177:6081
CATEGORIES:Veranstaltungen,Patienten,Ärzte,Forschung
CONTACT:Dr. Annette Schilling\, +49 6221 42-1598\, nct-patientenbeteiligun
 g-at-dkfz.de\, https://nct.dkfz.de/patientenbeteiligung/patientenexpertenk
 onferenz.html
CREATED:20260112T131534Z
DESCRIPTION:in Essen
LAST-MODIFIED:20260112T131539Z
LOCATION:Essen
URL:https://www.nct-dresden.de/de/das-nctucc-dresden/veranstaltungen/natio
 nale-konferenz-patienten-als-partner-der-krebsforschung
END:VEVENT
BEGIN:VEVENT
SUMMARY:Patienten-Café
DTSTART;TZID=Europe/Berlin:20260907T153000
DTEND;TZID=Europe/Berlin:20260907T170000
DTSTAMP:20260422T013538Z
UID:74217e1e06a349bab6f931667712d0d6@10.210.121.177:6081
CATEGORIES:Veranstaltungen,Patienten
CONTACT:Philippe Fanghaenel\, philippe.fanghaenel@nct-dresden.de\, https:/
 /www.nct-dresden.de/de/fuer-patienten/beratungs-und-unterstuetzungsangebot
 e/patienten-cafe
CREATED:20260112T132612Z
LAST-MODIFIED:20260112T132617Z
LOCATION:NCT/UCC
URL:https://www.nct-dresden.de/de/das-nctucc-dresden/veranstaltungen/patie
 nten-cafe-6
END:VEVENT
BEGIN:VEVENT
SUMMARY:Patienten-Café
DTSTART;TZID=Europe/Berlin:20261207T153000
DTEND;TZID=Europe/Berlin:20261207T170000
DTSTAMP:20260422T013538Z
UID:c8c32a9c86534ea987264a2d37ea355a@10.210.121.177:6081
CATEGORIES:Veranstaltungen,Patienten
CONTACT:Philippe Fanghaenel\, philippe.fanghaenel@nct-dresden.de\, https:/
 /www.nct-dresden.de/de/fuer-patienten/beratungs-und-unterstuetzungsangebot
 e/patienten-cafe
CREATED:20260112T132702Z
LAST-MODIFIED:20260112T132708Z
LOCATION:NCT/UCC
URL:https://www.nct-dresden.de/de/das-nctucc-dresden/veranstaltungen/patie
 nten-cafe-7
END:VEVENT
BEGIN:VEVENT
SUMMARY:Kochkurs gesunde Ernährung bei Bauchspeicheldrüsenerkankungen
DTSTART;TZID=Europe/Berlin:20260512T170000
DTEND;TZID=Europe/Berlin:20260512T193000
DTSTAMP:20260422T013538Z
UID:9501293764f442f89c56ca87f0981241@10.210.121.177:6081
CATEGORIES:Patienten
CONTACT:Sandra Körner\, 0351 458 4801\, Sandra.Koerner@ukdd.de\, https://
 www.uniklinikum-dresden.de/de/das-klinikum/kliniken-polikliniken-institute
 /vtg/studium_Weiterbildung/veranstaltungen_favoritenportlet/copy_of_kochku
 rs-gesunde-ernaehrung-bei-bauchspeicheldruesenerkankungen
CREATED:20260107T112357Z
LAST-MODIFIED:20260107T112406Z
LOCATION:Universitätsklinikum\, Haus 22\, Restaurant CARUSO\, Fetscherstr
 . 74\, 01307 Dresden
URL:https://www.nct-dresden.de/de/das-nctucc-dresden/veranstaltungen/kochk
 urs-gesunde-ernaehrung-bei-bauchspeicheldruesenerkankungen-1
END:VEVENT
BEGIN:VEVENT
SUMMARY:Kochkurs gesunde Ernährung bei Bauchspeicheldrüsenerkankungen
DTSTART;TZID=Europe/Berlin:20260825T170000
DTEND;TZID=Europe/Berlin:20260825T193000
DTSTAMP:20260422T013538Z
UID:0d17d271ce8b4c80bec902bb9450b0ff@10.210.121.177:6081
CATEGORIES:Patienten
CONTACT:Sandra Körner\, 0351 458 4801\, Sandra.Koerner@ukdd.de\, https://
 www.uniklinikum-dresden.de/de/das-klinikum/kliniken-polikliniken-institute
 /vtg/studium_Weiterbildung/veranstaltungen_favoritenportlet/copy2_of_kochk
 urs-gesunde-ernaehrung-bei-bauchspeicheldruesenerkankungen
CREATED:20260107T112540Z
LAST-MODIFIED:20260107T112558Z
LOCATION:Universitätsklinikum\, Haus 22\, Restaurant CARUSO\, Fetscherstr
 . 74\, 01307 Dresden
URL:https://www.nct-dresden.de/de/das-nctucc-dresden/veranstaltungen/kochk
 urs-gesunde-ernaehrung-bei-bauchspeicheldruesenerkankungen-2
END:VEVENT
BEGIN:VEVENT
SUMMARY:Kochkurs gesunde Ernährung bei Bauchspeicheldrüsenerkankungen
DTSTART;TZID=Europe/Berlin:20261110T170000
DTEND;TZID=Europe/Berlin:20261110T193000
DTSTAMP:20260422T013538Z
UID:e74eeb2377b04686a8babc757316a8ce@10.210.121.177:6081
CATEGORIES:Patienten
CONTACT:Sandra Körner\, 0351 458 4801\, Sandra.Koerner@ukdd.de\, https://
 www.uniklinikum-dresden.de/de/das-klinikum/kliniken-polikliniken-institute
 /vtg/studium_Weiterbildung/veranstaltungen_favoritenportlet/copy3_of_kochk
 urs-gesunde-ernaehrung-bei-bauchspeicheldruesenerkankungen
CREATED:20260107T112758Z
LAST-MODIFIED:20260107T112813Z
LOCATION:Universitätsklinikum\, Haus 22\, Restaurant CARUSO\, Fetscherstr
 . 74\, 01307 Dresden
URL:https://www.nct-dresden.de/de/das-nctucc-dresden/veranstaltungen/kochk
 urs-gesunde-ernaehrung-bei-bauchspeicheldruesenerkankungen-3
END:VEVENT
BEGIN:VEVENT
SUMMARY:Let's eat – Online-Ernährungsprogramm
DTSTART;TZID=Europe/Berlin:20260909T170000
DTEND;TZID=Europe/Berlin:20260909T183000
DTSTAMP:20260422T013538Z
UID:d4084167fd804041a67e58c1af33b7c6@10.210.121.177:6081
CATEGORIES:Patienten,Veranstaltungen
CONTACT:0351 458-7445\, krebspraevention@ukdd.de\, https://www.nct-dresden
 .de/de/das-nctucc-dresden/praeventionszentrum/angebote-fuer-patienten/lets
 -eat-online-ernaehrungsprogramm
CREATED:20260115T090949Z
LAST-MODIFIED:20260119T143927Z
LOCATION:online über zoom
URL:https://www.nct-dresden.de/de/das-nctucc-dresden/veranstaltungen/lets-
 eat-online-ernaehrungsprogramm-3
END:VEVENT
BEGIN:VTIMEZONE
TZID:Europe/Berlin
X-LIC-LOCATION:Europe/Berlin
BEGIN:DAYLIGHT
DTSTART:20260329T030000
TZNAME:CEST
TZOFFSETFROM:+0100
TZOFFSETTO:+0200
END:DAYLIGHT
BEGIN:STANDARD
DTSTART:20261025T020000
TZNAME:CET
TZOFFSETFROM:+0200
TZOFFSETTO:+0100
END:STANDARD
END:VTIMEZONE
END:VCALENDAR
