BEGIN:VCALENDAR
VERSION:2.0
PRODID:-//Plone.org//NONSGML plone.app.event//EN
X-WR-TIMEZONE:Europe/Berlin
BEGIN:VEVENT
SUMMARY:NCT/UCC Patiententag
DTSTART;TZID=Europe/Berlin:20250517T090000
DTEND;TZID=Europe/Berlin:20250517T143000
DTSTAMP:20260422T031142Z
UID:842d393320e84b4ba80edae793044f85@10.210.121.177:6081
CATEGORIES:Patienten,Veranstaltungen
CONTACT:Yvonne Schidlek\, 0351 458-4408\, veranstaltungen.nct-ucc@ukdd.de\
 , https://www.nct-dresden.de/patiententag
CREATED:20241001T130013Z
LAST-MODIFIED:20250401T144455Z
LOCATION:UKD\, MTZ\, H91
URL:https://www.nct-dresden.de/de/das-nctucc-dresden/veranstaltungen/nct-u
 cc-patiententag
END:VEVENT
BEGIN:VEVENT
SUMMARY:Benefizkonzert vom Sonnenstrahl e.V.
DTSTART;VALUE=DATE:20250314
DTEND;VALUE=DATE:20250315
DTSTAMP:20260422T031142Z
UID:37a4cc25c3e2499b9e10d801c08c5add@10.210.121.177:6081
CATEGORIES:Veranstaltungen,Patienten
CONTACT:Sonnenstrahl e.V. Dresden\, +49 351 315 83900\, https://www.sonnen
 strahl-ev.org
CREATED:20241028T102738Z
LAST-MODIFIED:20241028T102742Z
LOCATION:Kreuzkirche Dresden
URL:https://www.nct-dresden.de/de/das-nctucc-dresden/veranstaltungen/benef
 izkonzert-vom-sonnenstrahl-e-v
END:VEVENT
BEGIN:VEVENT
SUMMARY:Lange Nacht der Wissenschaften
DTSTART;TZID=Europe/Berlin:20250620T170000
DTSTAMP:20260422T031142Z
UID:a4d55acb4d2a4d27bbf530122cd261a3@10.210.121.177:6081
CATEGORIES:Veranstaltungen,Patienten,Forschung
CONTACT:https://www.wissenschaftsnacht-dresden.de
CREATED:20241028T135245Z
DESCRIPTION:mit Beteiligung des NCT/UCC
LAST-MODIFIED:20241028T135256Z
URL:https://www.nct-dresden.de/de/das-nctucc-dresden/veranstaltungen/lange
 -nacht-der-wissenschaften-1
END:VEVENT
BEGIN:VEVENT
SUMMARY:Kochkurs - gesunde Ernährung bei Erkrankungen der Bauchspeicheldr
 üse
DTSTART;TZID=Europe/Berlin:20250311T180000
DTEND;TZID=Europe/Berlin:20250311T200000
DTSTAMP:20260422T031142Z
UID:c19d445802ad49098df68a80d7aa1aec@10.210.121.177:6081
CATEGORIES:Veranstaltungen,Patienten
CONTACT:Sandra Körner\, +49 351 458-4801\, sandra.koerner@ukdd.de\, https
 ://www.uniklinikum-dresden.de/de/das-klinikum/kliniken-polikliniken-instit
 ute/vtg/@@event_listing?mode=future
CREATED:20241029T065104Z
LAST-MODIFIED:20241029T065109Z
LOCATION:Uniklinikum Dresden\, Haus 22\, Restaurant CARUSO\, Fetscherstr. 
 74\, 01307 Dresden
URL:https://www.nct-dresden.de/de/das-nctucc-dresden/veranstaltungen/kochk
 urs-gesunde-ernaehrung-bei-erkrankungen-der-bauchspeicheldruese-2
END:VEVENT
BEGIN:VEVENT
SUMMARY:Kochkurs - gesunde Ernährung bei Erkrankungen der Bauchspeicheldr
 üse
DTSTART;TZID=Europe/Berlin:20250513T180000
DTEND;TZID=Europe/Berlin:20250513T200000
DTSTAMP:20260422T031142Z
UID:cc695316fafe4ed19cf6484993105230@10.210.121.177:6081
CATEGORIES:Veranstaltungen,Patienten
CONTACT:Sandra Körner\, +49 351 458-4801\, sandra.koerner@ukdd.de\, https
 ://www.uniklinikum-dresden.de/de/das-klinikum/kliniken-polikliniken-instit
 ute/vtg/@@event_listing?mode=future
CREATED:20241029T065333Z
LAST-MODIFIED:20241029T065338Z
LOCATION:Uniklinikum Dresden\, Haus 22\, Restaurant CARUSO\, Fetscherstr. 
 74\, 01307 Dresden
URL:https://www.nct-dresden.de/de/das-nctucc-dresden/veranstaltungen/kochk
 urs-gesunde-ernaehrung-bei-erkrankungen-der-bauchspeicheldruese-3
END:VEVENT
BEGIN:VEVENT
SUMMARY:Kochkurs - gesunde Ernährung bei Erkrankungen der Bauchspeicheldr
 üse
DTSTART;TZID=Europe/Berlin:20250909T180000
DTEND;TZID=Europe/Berlin:20250909T200000
DTSTAMP:20260422T031142Z
UID:29e48669d8f84a919db8c32efa48c1c2@10.210.121.177:6081
CATEGORIES:Veranstaltungen,Patienten
CONTACT:Sandra Körner\, +49 351 458-4801\, sandra.koerner@ukdd.de\, https
 ://www.uniklinikum-dresden.de/de/das-klinikum/kliniken-polikliniken-instit
 ute/vtg/@@event_listing?mode=future
CREATED:20241029T073607Z
LAST-MODIFIED:20241029T073613Z
LOCATION:Uniklinikum Dresden\, Haus 22\, Restaurant CARUSO\, Fetscherstr. 
 74\, 01307 Dresden
URL:https://www.nct-dresden.de/de/das-nctucc-dresden/veranstaltungen/kochk
 urs-gesunde-ernaehrung-bei-erkrankungen-der-bauchspeicheldruese-4
END:VEVENT
BEGIN:VEVENT
SUMMARY:Kochkurs - gesunde Ernährung bei Erkrankungen der Bauchspeicheldr
 üse
DTSTART;TZID=Europe/Berlin:20251111T180000
DTEND;TZID=Europe/Berlin:20251111T200000
DTSTAMP:20260422T031142Z
UID:817015ea045a4d9492efbe516dba9cd7@10.210.121.177:6081
CATEGORIES:Veranstaltungen,Patienten
CONTACT:Sandra Körner\, +49 351 458-4801\, sandra.koerner@ukdd.de\, https
 ://www.uniklinikum-dresden.de/de/das-klinikum/kliniken-polikliniken-instit
 ute/vtg/@@event_listing?mode=future
CREATED:20241029T073743Z
LAST-MODIFIED:20241029T073748Z
LOCATION:Uniklinikum Dresden\, Haus 22\, Restaurant CARUSO\, Fetscherstr. 
 74\, 01307 Dresden
URL:https://www.nct-dresden.de/de/das-nctucc-dresden/veranstaltungen/kochk
 urs-gesunde-ernaehrung-bei-erkrankungen-der-bauchspeicheldruese-5
END:VEVENT
BEGIN:VEVENT
SUMMARY:Patienten-Café
DTSTART;TZID=Europe/Berlin:20260309T153000
DTEND;TZID=Europe/Berlin:20260309T170000
DTSTAMP:20260422T031142Z
UID:c77e110332594eddb7f7ac07b3c61aa0@10.210.121.177:6081
CATEGORIES:Veranstaltungen,Patienten
CONTACT:Philippe Fanghaenel\, philippe.fanghaenel@nct-dresden.de\, https:/
 /www.nct-dresden.de/de/fuer-patienten/beratungs-und-unterstuetzungsangebot
 e/patienten-cafe
CREATED:20260112T085729Z
LAST-MODIFIED:20260112T085746Z
LOCATION:NCT/UCC
URL:https://www.nct-dresden.de/de/das-nctucc-dresden/veranstaltungen/patie
 nten-cafe-5
END:VEVENT
BEGIN:VEVENT
SUMMARY:Kochkurs gesunde Ernährung bei Bauchspeicheldrüsenerkankungen
DTSTART;TZID=Europe/Berlin:20260310T170000
DTEND;TZID=Europe/Berlin:20260310T193000
DTSTAMP:20260422T031142Z
UID:c44af619db994968ba5cc6b48d0f0258@10.210.121.177:6081
CATEGORIES:Patienten
CONTACT:Sandra Körner\, 0351 458 4801\, Sandra.Koerner@ukdd.de\, https://
 www.uniklinikum-dresden.de/de/das-klinikum/kliniken-polikliniken-institute
 /vtg/studium_Weiterbildung/veranstaltungen_favoritenportlet/kochkurs-gesun
 de-ernaehrung-bei-bauchspeicheldruesenerkankungen
CREATED:20260107T112113Z
LAST-MODIFIED:20260107T112143Z
LOCATION:Universitätsklinikum\, Haus 22\, Restaurant CARUSO\, Fetscherstr
 . 74\, 01307 Dresden
URL:https://www.nct-dresden.de/de/das-nctucc-dresden/veranstaltungen/kochk
 urs-gesunde-ernaehrung-bei-bauchspeicheldruesenerkankungen
END:VEVENT
BEGIN:VEVENT
SUMMARY:Let's eat – Online-Ernährungsprogramm
DTSTART;TZID=Europe/Berlin:20260303T170000
DTEND;TZID=Europe/Berlin:20260303T183000
DTSTAMP:20260422T031142Z
UID:1b8035b3dc2a43698fa591b5309ca108@10.210.121.177:6081
CATEGORIES:Veranstaltungen,Patienten
CONTACT:0351 458-7445\, krebspraevention@ukdd.de\, https://www.nct-dresden
 .de/de/das-nctucc-dresden/praeventionszentrum/angebote-fuer-patienten/lets
 -eat-online-ernaehrungsprogramm
CREATED:20260115T090440Z
DESCRIPTION:Informationen und Unterstützung zu einer gesunden Ernährung
LAST-MODIFIED:20260119T144212Z
LOCATION:online über zoom
URL:https://www.nct-dresden.de/de/das-nctucc-dresden/veranstaltungen/lets-
 eat-online-ernaehrungsprogramm-2
END:VEVENT
BEGIN:VEVENT
SUMMARY:Patienten-Café
DTSTART;TZID=Europe/Berlin:20250407T153000
DTEND;TZID=Europe/Berlin:20250407T170000
DTSTAMP:20260422T031142Z
UID:d2f0de1f149440b8a704fad7d0adbb01@10.210.121.177:6081
CATEGORIES:Veranstaltungen,Patienten
CONTACT:0351 458-5572
CREATED:20241219T125736Z
DESCRIPTION:Das Patienten-Café bietet die Möglichkeit\, sich mit anderen
  Betroffenen auszutauschen und zu vernetzen. Zugleich erfahren Sie mehr ü
 ber die Arbeit des Patientenbeirats\, erhalten Informationen zu Veranstalt
 ungen im onkologischen Bereich\, zu aktuellen Studien und neuen Therapiean
 geboten.
LAST-MODIFIED:20241219T125801Z
LOCATION:Bistro NCT/UCC-Neubau\, Haus 136
URL:https://www.nct-dresden.de/de/das-nctucc-dresden/veranstaltungen/patie
 nten-cafe-2
END:VEVENT
BEGIN:VEVENT
SUMMARY:Patienten-Café
DTSTART;TZID=Europe/Berlin:20250616T153000
DTEND;TZID=Europe/Berlin:20250616T170000
DTSTAMP:20260422T031142Z
UID:26c33d0a49644b8a97b4b8c383eaafa3@10.210.121.177:6081
CATEGORIES:Veranstaltungen,Patienten
CONTACT:0351 458-5572
CREATED:20241219T131113Z
LAST-MODIFIED:20241219T131154Z
LOCATION:Bistro NCT/UCC-Neubau\, Haus 136
URL:https://www.nct-dresden.de/de/das-nctucc-dresden/veranstaltungen/patie
 nten-cafe-3
END:VEVENT
BEGIN:VEVENT
SUMMARY:Patienten-Café
DTSTART;TZID=Europe/Berlin:20250908T153000
DTEND;TZID=Europe/Berlin:20250908T170000
DTSTAMP:20260422T031142Z
UID:d46f4cb1a5814841b615bdb649a1e802@10.210.121.177:6081
CATEGORIES:Veranstaltungen,Patienten
CONTACT:0351 458-5572
CREATED:20241219T131336Z
LAST-MODIFIED:20241219T131339Z
LOCATION:Bistro NCT/UCC-Neubau\, Haus 136
URL:https://www.nct-dresden.de/de/das-nctucc-dresden/veranstaltungen/patie
 nten-cafe-4
END:VEVENT
BEGIN:VEVENT
SUMMARY:NCT/UCC Benefizlauf - FortSCHRITT gegen Krebs
DTSTART;TZID=Europe/Berlin:20250902T160000
DTEND;TZID=Europe/Berlin:20250902T180000
DTSTAMP:20260422T031142Z
UID:5f4335d939404210b04c3402e0489c9f@10.210.121.177:6081
CATEGORIES:Veranstaltungen,Patienten,Ärzte
CONTACT:Philippe Fanghänel\, 0351 458-5572\, events@nct-dresden.de
CREATED:20241219T132218Z
LAST-MODIFIED:20241219T132241Z
LOCATION:Großer Garten\, Dresden
URL:https://www.nct-dresden.de/de/das-nctucc-dresden/veranstaltungen/nct-u
 cc-benefizlauf-fortschritt-gegen-krebs-1
END:VEVENT
BEGIN:VEVENT
SUMMARY:Patienten-Café
DTSTART;TZID=Europe/Berlin:20240902T153000
DTEND;TZID=Europe/Berlin:20240902T170000
DTSTAMP:20260422T031142Z
UID:3ee304d7c08e45b0951ab96760272f8d@10.210.121.177:6081
CATEGORIES:Veranstaltungen,Patienten
CONTACT:0351 458-5572
CREATED:20240808T163816Z
DESCRIPTION:Das Patienten-Café bietet die Möglichkeit\, sich mit anderen
  Betroffenen auszutauschen und zu vernetzen. Zugleich erfahren Sie mehr ü
 ber die Arbeit des Patientenbeirats\, erhalten Informationen zu Veranstalt
 ungen im onkologischen Bereich\, zu aktuellen Studien und neuen Therapiean
 geboten.
LAST-MODIFIED:20240808T164958Z
LOCATION:Bistro NCT/UCC-Neubau\, Haus 136
URL:https://www.nct-dresden.de/de/das-nctucc-dresden/veranstaltungen/patie
 nten-cafe
END:VEVENT
BEGIN:VEVENT
SUMMARY:Patienten-Café
DTSTART;TZID=Europe/Berlin:20241202T153000
DTEND;TZID=Europe/Berlin:20241202T170000
DTSTAMP:20260422T031142Z
UID:715a15a34ceb4c79bd0ca93d70c882ba@10.210.121.177:6081
CATEGORIES:Veranstaltungen,Patienten
CONTACT:0351 458-5572\, events@nct-dresden.de
CREATED:20240808T164839Z
DESCRIPTION:Das Patienten-Café bietet die Möglichkeit\, sich mit anderen
  Betroffenen auszutauschen und zu vernetzen. Zugleich erfahren Sie mehr ü
 ber die Arbeit des Patientenbeirats\, erhalten Informationen zu Veranstalt
 ungen im onkologischen Bereich\, zu aktuellen Studien und neuen Therapiean
 geboten.
LAST-MODIFIED:20241024T073027Z
LOCATION:EG Bistro NCT/UCC-Neubau\, Haus 136
URL:https://www.nct-dresden.de/de/das-nctucc-dresden/veranstaltungen/patie
 nten-cafe-1
END:VEVENT
BEGIN:VEVENT
SUMMARY:Let's Eat – Online-Ernährungsprogramm
DTSTART;TZID=Europe/Berlin:20250903T170000
DTEND;TZID=Europe/Berlin:20250903T183000
DTSTAMP:20260422T031142Z
UID:ab7c24ad1ee441a7947f09dd5323d3fe@10.210.121.177:6081
RRULE:FREQ=DAILY;UNTIL=20250925T000000;INTERVAL=7
CATEGORIES:Patienten,Veranstaltungen
CONTACT:+49 (0) 351 458-7445
CREATED:20250721T093331Z
LAST-MODIFIED:20250721T094031Z
LOCATION:Online per Zoom
URL:https://www.nct-dresden.de/de/das-nctucc-dresden/veranstaltungen/lets-
 eat-online-ernaehrungsprogramm-1
END:VEVENT
BEGIN:VTIMEZONE
TZID:Europe/Berlin
X-LIC-LOCATION:Europe/Berlin
BEGIN:DAYLIGHT
DTSTART:20250330T030000
TZNAME:CEST
TZOFFSETFROM:+0100
TZOFFSETTO:+0200
END:DAYLIGHT
BEGIN:STANDARD
DTSTART:20241027T020000
TZNAME:CET
TZOFFSETFROM:+0200
TZOFFSETTO:+0100
END:STANDARD
BEGIN:STANDARD
DTSTART:20251026T020000
TZNAME:CET
TZOFFSETFROM:+0200
TZOFFSETTO:+0100
END:STANDARD
BEGIN:DAYLIGHT
DTSTART:20240331T030000
TZNAME:CEST
TZOFFSETFROM:+0100
TZOFFSETTO:+0200
END:DAYLIGHT
END:VTIMEZONE
END:VCALENDAR
